BEGIN:VCALENDAR
VERSION:2.0
PRODID:-//Chacewater Winery &amp; Olive Mill - ECPv6.15.20//NONSGML v1.0//EN
CALSCALE:GREGORIAN
METHOD:PUBLISH
X-WR-CALNAME:Chacewater Winery &amp; Olive Mill
X-ORIGINAL-URL:https://chacewaterwine.com
X-WR-CALDESC:Events for Chacewater Winery &amp; Olive Mill
REFRESH-INTERVAL;VALUE=DURATION:PT1H
X-Robots-Tag:noindex
X-PUBLISHED-TTL:PT1H
BEGIN:VTIMEZONE
TZID:America/Los_Angeles
BEGIN:DAYLIGHT
TZOFFSETFROM:-0800
TZOFFSETTO:-0700
TZNAME:PDT
DTSTART:20180311T100000
END:DAYLIGHT
BEGIN:STANDARD
TZOFFSETFROM:-0700
TZOFFSETTO:-0800
TZNAME:PST
DTSTART:20181104T090000
END:STANDARD
BEGIN:DAYLIGHT
TZOFFSETFROM:-0800
TZOFFSETTO:-0700
TZNAME:PDT
DTSTART:20190310T100000
END:DAYLIGHT
BEGIN:STANDARD
TZOFFSETFROM:-0700
TZOFFSETTO:-0800
TZNAME:PST
DTSTART:20191103T090000
END:STANDARD
BEGIN:DAYLIGHT
TZOFFSETFROM:-0800
TZOFFSETTO:-0700
TZNAME:PDT
DTSTART:20200308T100000
END:DAYLIGHT
BEGIN:STANDARD
TZOFFSETFROM:-0700
TZOFFSETTO:-0800
TZNAME:PST
DTSTART:20201101T090000
END:STANDARD
END:VTIMEZONE
BEGIN:VEVENT
DTSTART;TZID=America/Los_Angeles:20190306T173000
DTEND;TZID=America/Los_Angeles:20190306T203000
DTSTAMP:20260421T044107
CREATED:20190106T185336Z
LAST-MODIFIED:20190109T041247Z
UID:10000091-1551893400-1551904200@chacewaterwine.com
SUMMARY:Diego's Restaurant Winter Wine Series
DESCRIPTION:  \n 
URL:https://chacewaterwine.com/event/diegos-restaurant-winter-wine-series/
LOCATION:Diego’s Resturant\, 217 Colfax Ave\, Grass Valley\, CA\, 95945
CATEGORIES:Family Winemakers Dinner,Food,Wine
END:VEVENT
BEGIN:VEVENT
DTSTART;TZID=America/Los_Angeles:20190302T170000
DTEND;TZID=America/Los_Angeles:20190302T200000
DTSTAMP:20260421T044107
CREATED:20190214T170917Z
LAST-MODIFIED:20190214T170917Z
UID:10000094-1551546000-1551556800@chacewaterwine.com
SUMMARY:March Pick Up Party
DESCRIPTION:Hello Club Members and Friends! \nYou’re invited to come and join us for the March club pick up party! Hang out with us for an evening of great wines\, olive oils\, food\, live music and lots of fun! \nWhen: Saturday\, March 2nd from 5pm-8pm. Please RSVP by February 20\, 2019. \nMusic/Entertainment by: TBD \nDinner provided by: Lakeview Market \nStockyard’s Angus USDA Choice Hand-carved Culotte Steak (Tri-Tip) \nJumbo Garlic\, Butter-Basted Teriyaki Prawns Skewered & Grilled to Perfection \nElegant Rice Pilaf with Toasted Orzo Pasta \nGreen Salad\, Sliced Bread with Grade AA Butter \nDessert: To be determined \nParty Tickets:\nClub Member $30 per person. Non-club member $35 per person. \n****Cancellations or refunds on tickets are only refundable 7 days prior to event. Tickets will not be refundable the week of pick up party & limited tickets will be available on the day of event**** \nPlease RSVP by replying to this email with the number of tickets you would like to purchase (up to 2 tickets at club pricing) or call us at 707-279-2995. \nMarch Wines:\n*New Release* 2018 Sauvginon Blanc & ’14 KREV Malbec \nWhite Wines:\n*New Release* 2018 Sauvginon Blancy & ’17 Engine House Sauvignon Blanc \nRed Wines:\n’14 KREV Malbec & *New Release* 2016 Catspaw Merlot \nEvoo’s:\nManzanillo & Organic Tuscan \nWines and Olive Oils will be ready for pick up at the tasting room on Friday\, March 1st\, 2019. \nWines and olive oils will ship on the first week of March 2019! \nCustomize you March Kit by emailing us HERE! \nAwesome Deals of the night:\n33% off Wines (15% off Black Label Wines) for club members the night of the event!!! Tired of short pours and a crowded bar? Sit back and relax with Vineyard Direct pricing\, great food and live music! \nAttention out of state and out of town club members: \n33% discount for all out of state and out of town club members. (Feel free to contact us if you need your login info- email or call 707-279-2995). Go to our Chacewater online store and use coupon code: “MAR2019” – Coupon is good from March 01 – March 03\, 2019. \nSo Mark Your Calendar and RSVP to Sandy or Emilio (or call 707-279-2995) by Wednesday\, February 20\, 2019 to reserve your spot. \nWe look forward to seeing you at the March Pick-Up Party! \nThank you! \nChacewater Team
URL:https://chacewaterwine.com/event/march-pick-up-party/
LOCATION:Chacewater Winery & Olive Mill\, 5625 Gaddy Lane\, Kelseyville\, CA\, 95451\, United States
CATEGORIES:Food,Pick Up Party,Wine
GEO:38.982467;-122.8345487
X-APPLE-STRUCTURED-LOCATION;VALUE=URI;X-ADDRESS=Chacewater Winery & Olive Mill 5625 Gaddy Lane Kelseyville CA 95451 United States;X-APPLE-RADIUS=500;X-TITLE=5625 Gaddy Lane:geo:-122.8345487,38.982467
END:VEVENT
BEGIN:VEVENT
DTSTART;TZID=America/Los_Angeles:20190223T110000
DTEND;TZID=America/Los_Angeles:20190223T170000
DTSTAMP:20260421T044107
CREATED:20190109T040934Z
LAST-MODIFIED:20190109T041014Z
UID:10000092-1550919600-1550941200@chacewaterwine.com
SUMMARY:Barrels & Verticals Tasting
DESCRIPTION:
URL:https://chacewaterwine.com/event/barrels-verticals-tasting/
LOCATION:Chacewater Winery & Olive Mill\, 5625 Gaddy Lane\, Kelseyville\, CA\, 95451\, United States
CATEGORIES:Community,Wine
GEO:38.982467;-122.8345487
X-APPLE-STRUCTURED-LOCATION;VALUE=URI;X-ADDRESS=Chacewater Winery & Olive Mill 5625 Gaddy Lane Kelseyville CA 95451 United States;X-APPLE-RADIUS=500;X-TITLE=5625 Gaddy Lane:geo:-122.8345487,38.982467
END:VEVENT
BEGIN:VEVENT
DTSTART;TZID=America/Los_Angeles:20190126T130000
DTEND;TZID=America/Los_Angeles:20190126T170000
DTSTAMP:20260421T044107
CREATED:20190123T233715Z
LAST-MODIFIED:20190123T233715Z
UID:10000093-1548507600-1548522000@chacewaterwine.com
SUMMARY:Live Music by Michael Barrish
DESCRIPTION:
URL:https://chacewaterwine.com/event/live-music-by-michael-barrish/
LOCATION:Chacewater Winery & Olive Mill\, 5625 Gaddy Lane\, Kelseyville\, CA\, 95451\, United States
CATEGORIES:General Event,Wine
GEO:38.982467;-122.8345487
X-APPLE-STRUCTURED-LOCATION;VALUE=URI;X-ADDRESS=Chacewater Winery & Olive Mill 5625 Gaddy Lane Kelseyville CA 95451 United States;X-APPLE-RADIUS=500;X-TITLE=5625 Gaddy Lane:geo:-122.8345487,38.982467
END:VEVENT
END:VCALENDAR