BEGIN:VCALENDAR
VERSION:2.0
PRODID:-//Chacewater Winery &amp; Olive Mill - ECPv6.15.20//NONSGML v1.0//EN
CALSCALE:GREGORIAN
METHOD:PUBLISH
X-ORIGINAL-URL:https://chacewaterwine.com
X-WR-CALDESC:Events for Chacewater Winery &amp; Olive Mill
REFRESH-INTERVAL;VALUE=DURATION:PT1H
X-Robots-Tag:noindex
X-PUBLISHED-TTL:PT1H
BEGIN:VTIMEZONE
TZID:America/Los_Angeles
BEGIN:DAYLIGHT
TZOFFSETFROM:-0800
TZOFFSETTO:-0700
TZNAME:PDT
DTSTART:20240310T100000
END:DAYLIGHT
BEGIN:STANDARD
TZOFFSETFROM:-0700
TZOFFSETTO:-0800
TZNAME:PST
DTSTART:20241103T090000
END:STANDARD
BEGIN:DAYLIGHT
TZOFFSETFROM:-0800
TZOFFSETTO:-0700
TZNAME:PDT
DTSTART:20250309T100000
END:DAYLIGHT
BEGIN:STANDARD
TZOFFSETFROM:-0700
TZOFFSETTO:-0800
TZNAME:PST
DTSTART:20251102T090000
END:STANDARD
BEGIN:DAYLIGHT
TZOFFSETFROM:-0800
TZOFFSETTO:-0700
TZNAME:PDT
DTSTART:20260308T100000
END:DAYLIGHT
BEGIN:STANDARD
TZOFFSETFROM:-0700
TZOFFSETTO:-0800
TZNAME:PST
DTSTART:20261101T090000
END:STANDARD
BEGIN:DAYLIGHT
TZOFFSETFROM:-0800
TZOFFSETTO:-0700
TZNAME:PDT
DTSTART:20270314T100000
END:DAYLIGHT
BEGIN:STANDARD
TZOFFSETFROM:-0700
TZOFFSETTO:-0800
TZNAME:PST
DTSTART:20271107T090000
END:STANDARD
END:VTIMEZONE
BEGIN:VEVENT
DTSTART;TZID=America/Los_Angeles:20251101T170000
DTEND;TZID=America/Los_Angeles:20251101T210000
DTSTAMP:20260420T223033
CREATED:20251007T172049Z
LAST-MODIFIED:20251009T211931Z
UID:10000107-1762016400-1762030800@chacewaterwine.com
SUMMARY:Boot Scootin' Party
DESCRIPTION:
URL:https://chacewaterwine.com/event/boot-scootin-party/
LOCATION:Chacewater Winery & Olive Mill\, 5625 Gaddy Lane\, Kelseyville\, CA\, 95451\, United States
GEO:38.982467;-122.8345487
X-APPLE-STRUCTURED-LOCATION;VALUE=URI;X-ADDRESS=Chacewater Winery & Olive Mill 5625 Gaddy Lane Kelseyville CA 95451 United States;X-APPLE-RADIUS=500;X-TITLE=5625 Gaddy Lane:geo:-122.8345487,38.982467
END:VEVENT
BEGIN:VEVENT
DTSTART;TZID=America/Los_Angeles:20251109T140000
DTEND;TZID=America/Los_Angeles:20251109T160000
DTSTAMP:20260420T223033
CREATED:20251010T162312Z
LAST-MODIFIED:20251103T181726Z
UID:10000108-1762696800-1762704000@chacewaterwine.com
SUMMARY:Ornament Making Class
DESCRIPTION:
URL:https://chacewaterwine.com/event/ornament-making-class/
LOCATION:Chacewater Winery & Olive Mill\, 5625 Gaddy Lane\, Kelseyville\, CA\, 95451\, United States
GEO:38.982467;-122.8345487
X-APPLE-STRUCTURED-LOCATION;VALUE=URI;X-ADDRESS=Chacewater Winery & Olive Mill 5625 Gaddy Lane Kelseyville CA 95451 United States;X-APPLE-RADIUS=500;X-TITLE=5625 Gaddy Lane:geo:-122.8345487,38.982467
END:VEVENT
BEGIN:VEVENT
DTSTART;TZID=America/Los_Angeles:20251116T120000
DTEND;TZID=America/Los_Angeles:20251116T150000
DTSTAMP:20260420T223033
CREATED:20250929T160936Z
LAST-MODIFIED:20250929T161026Z
UID:10000105-1763294400-1763305200@chacewaterwine.com
SUMMARY:Los Angeles 2025 Food Event
DESCRIPTION:Chacewater Winery is coming to Malibu!!! \nJoin us at The Food Event 2025\, Los Angeles magazine’s 19th annual food and wine festival at the iconic Calamigos Ranch. \nEnjoy unlimited tastings from 40 of L.A.’s top restaurants\, craft beer\, boutique wines (including Chacewater)\, spirits\, cocktails\, and special experiences all in one beautiful setting. \nWe’ll be pouring FOUR Chacewater wines (to be announced) and giving you the chance to win some Chacewater swag in our raffle. Don’t miss it!!! More info to be announced as we get closer to the event date! \nSunday\, November 16 | 12pm – 3pm\nCalamigos Ranch\, Malibu \nCome sip with us and celebrate food\, wine\, and good company. \n\n\n\nTicket Link: \nhttps://www.eventbrite.com/e/los-angeles-magazines-the-food-event-2025-tickets-1419914726169
URL:https://chacewaterwine.com/event/los-angeles-2025-food-event/
LOCATION:Calamigos Ranch\, 327 Latigo Canyon Road\, Malibu\, CA\, 90265
END:VEVENT
BEGIN:VEVENT
DTSTART;TZID=America/Los_Angeles:20251116T140000
DTEND;TZID=America/Los_Angeles:20251116T160000
DTSTAMP:20260420T223033
CREATED:20251105T200744Z
LAST-MODIFIED:20251105T200823Z
UID:10000109-1763301600-1763308800@chacewaterwine.com
SUMMARY:Paint & Sip
DESCRIPTION:November 16\, 2025 2pm – 4pm \n Members $35.00\n\n Non Members (Guest) $40.00 \nIncludes all necessary painting materials and supplies\nA complimentary glass of our finest Chacewater wine \nExpert guidance from the talented Kelsey Rolfe \n\n Please call 707 279-2995 or\nEmail lana@chacewaterwine.com\nMonday – Friday 9pm-5pm \nChacewater Winery & Olive Mill \n\n 
URL:https://chacewaterwine.com/event/paint-sip-3/
LOCATION:Chacewater Winery & Olive Mill\, 5625 Gaddy Lane\, Kelseyville\, CA\, 95451\, United States
GEO:38.982467;-122.8345487
X-APPLE-STRUCTURED-LOCATION;VALUE=URI;X-ADDRESS=Chacewater Winery & Olive Mill 5625 Gaddy Lane Kelseyville CA 95451 United States;X-APPLE-RADIUS=500;X-TITLE=5625 Gaddy Lane:geo:-122.8345487,38.982467
END:VEVENT
BEGIN:VEVENT
DTSTART;TZID=America/Los_Angeles:20251213T170000
DTEND;TZID=America/Los_Angeles:20251213T210000
DTSTAMP:20260420T223033
CREATED:20251118T173111Z
LAST-MODIFIED:20251118T173341Z
UID:10000110-1765645200-1765659600@chacewaterwine.com
SUMMARY:Christmas Pick Up Party
DESCRIPTION:
URL:https://chacewaterwine.com/event/christmas-pick-up-party/
LOCATION:Chacewater Winery & Olive Mill\, 5625 Gaddy Lane\, Kelseyville\, CA\, 95451\, United States
GEO:38.982467;-122.8345487
X-APPLE-STRUCTURED-LOCATION;VALUE=URI;X-ADDRESS=Chacewater Winery & Olive Mill 5625 Gaddy Lane Kelseyville CA 95451 United States;X-APPLE-RADIUS=500;X-TITLE=5625 Gaddy Lane:geo:-122.8345487,38.982467
END:VEVENT
BEGIN:VEVENT
DTSTART;TZID=America/Los_Angeles:20260118T140000
DTEND;TZID=America/Los_Angeles:20260118T160000
DTSTAMP:20260420T223033
CREATED:20260108T170636Z
LAST-MODIFIED:20260108T171516Z
UID:10000111-1768744800-1768752000@chacewaterwine.com
SUMMARY:Paint & Sip
DESCRIPTION:PAINT & SIP \nJanuary 18\, 2026 2pm – 4pm \n Members $35.00\n Non Members (Guest) $40.00\n\nIncludes all necessary painting materials and supplies\nA complimentary glass of our finest Chacewater wineExpert guidance from the talented Kelsey Rolfe\n\nPlease call 707 279-2995 or\nEmail lana@chacewaterwine.com\n Monday – Friday 9pm-5pm \n\nIn the future: Paint & Sip will be held every second Sunday of the monthThank you\,\nChacewater Winery & Olive Mill
URL:https://chacewaterwine.com/event/paint-sip-4/
LOCATION:Chacewater Winery & Olive Mill\, 5625 Gaddy Lane\, Kelseyville\, CA\, 95451\, United States
GEO:38.982467;-122.8345487
X-APPLE-STRUCTURED-LOCATION;VALUE=URI;X-ADDRESS=Chacewater Winery & Olive Mill 5625 Gaddy Lane Kelseyville CA 95451 United States;X-APPLE-RADIUS=500;X-TITLE=5625 Gaddy Lane:geo:-122.8345487,38.982467
END:VEVENT
BEGIN:VEVENT
DTSTART;TZID=America/Los_Angeles:20260214T140000
DTEND;TZID=America/Los_Angeles:20260214T160000
DTSTAMP:20260420T223033
CREATED:20260109T160427Z
LAST-MODIFIED:20260213T221338Z
UID:10000112-1771077600-1771084800@chacewaterwine.com
SUMMARY:Wine & Chocolate Pairing
DESCRIPTION:Luv Fudge company  and Chacewater Wines. \nLive music 1-4 pm Equinox Band.
URL:https://chacewaterwine.com/event/wine-chocolate-pairing/
LOCATION:Chacewater Winery & Olive Mill\, 5625 Gaddy Lane\, Kelseyville\, CA\, 95451\, United States
GEO:38.982467;-122.8345487
X-APPLE-STRUCTURED-LOCATION;VALUE=URI;X-ADDRESS=Chacewater Winery & Olive Mill 5625 Gaddy Lane Kelseyville CA 95451 United States;X-APPLE-RADIUS=500;X-TITLE=5625 Gaddy Lane:geo:-122.8345487,38.982467
END:VEVENT
BEGIN:VEVENT
DTSTART;TZID=America/Los_Angeles:20260314T170000
DTEND;TZID=America/Los_Angeles:20260314T200000
DTSTAMP:20260420T223033
CREATED:20260109T160536Z
LAST-MODIFIED:20260213T221120Z
UID:10000113-1773507600-1773518400@chacewaterwine.com
SUMMARY:Wine Club Party
DESCRIPTION:Corn Beef and Hash\, Live Fidler performance.
URL:https://chacewaterwine.com/event/wine-club-party/
LOCATION:Chacewater Winery & Olive Mill\, 5625 Gaddy Lane\, Kelseyville\, CA\, 95451\, United States
GEO:38.982467;-122.8345487
X-APPLE-STRUCTURED-LOCATION;VALUE=URI;X-ADDRESS=Chacewater Winery & Olive Mill 5625 Gaddy Lane Kelseyville CA 95451 United States;X-APPLE-RADIUS=500;X-TITLE=5625 Gaddy Lane:geo:-122.8345487,38.982467
END:VEVENT
BEGIN:VEVENT
DTSTART;TZID=America/Los_Angeles:20260418T110000
DTEND;TZID=America/Los_Angeles:20260418T160000
DTSTAMP:20260420T223033
CREATED:20260109T160755Z
LAST-MODIFIED:20260109T161432Z
UID:10000114-1776510000-1776528000@chacewaterwine.com
SUMMARY:Olive Oil Festival
DESCRIPTION:Blue Grass Band\, numerous craft vendors.
URL:https://chacewaterwine.com/event/olive-oil-festival/
LOCATION:Chacewater Winery & Olive Mill\, 5625 Gaddy Lane\, Kelseyville\, CA\, 95451\, United States
GEO:38.982467;-122.8345487
X-APPLE-STRUCTURED-LOCATION;VALUE=URI;X-ADDRESS=Chacewater Winery & Olive Mill 5625 Gaddy Lane Kelseyville CA 95451 United States;X-APPLE-RADIUS=500;X-TITLE=5625 Gaddy Lane:geo:-122.8345487,38.982467
END:VEVENT
BEGIN:VEVENT
DTSTART;TZID=America/Los_Angeles:20260502T170000
DTEND;TZID=America/Los_Angeles:20260502T210000
DTSTAMP:20260420T223033
CREATED:20260109T160919Z
LAST-MODIFIED:20260109T161301Z
UID:10000115-1777741200-1777755600@chacewaterwine.com
SUMMARY:Wine and Spirits
DESCRIPTION:Wine and Spirits Nonprofit fundraiser. \n5 pm to 9 pm Live music.
URL:https://chacewaterwine.com/event/wine-and-spirits/
LOCATION:Chacewater Winery & Olive Mill\, 5625 Gaddy Lane\, Kelseyville\, CA\, 95451\, United States
GEO:38.982467;-122.8345487
X-APPLE-STRUCTURED-LOCATION;VALUE=URI;X-ADDRESS=Chacewater Winery & Olive Mill 5625 Gaddy Lane Kelseyville CA 95451 United States;X-APPLE-RADIUS=500;X-TITLE=5625 Gaddy Lane:geo:-122.8345487,38.982467
END:VEVENT
END:VCALENDAR