BEGIN:VCALENDAR
VERSION:2.0
PRODID:-//Chacewater Winery &amp; Olive Mill - ECPv6.15.20//NONSGML v1.0//EN
CALSCALE:GREGORIAN
METHOD:PUBLISH
X-WR-CALNAME:Chacewater Winery &amp; Olive Mill
X-ORIGINAL-URL:https://chacewaterwine.com
X-WR-CALDESC:Events for Chacewater Winery &amp; Olive Mill
REFRESH-INTERVAL;VALUE=DURATION:PT1H
X-Robots-Tag:noindex
X-PUBLISHED-TTL:PT1H
BEGIN:VTIMEZONE
TZID:America/Los_Angeles
BEGIN:DAYLIGHT
TZOFFSETFROM:-0800
TZOFFSETTO:-0700
TZNAME:PDT
DTSTART:20240310T100000
END:DAYLIGHT
BEGIN:STANDARD
TZOFFSETFROM:-0700
TZOFFSETTO:-0800
TZNAME:PST
DTSTART:20241103T090000
END:STANDARD
BEGIN:DAYLIGHT
TZOFFSETFROM:-0800
TZOFFSETTO:-0700
TZNAME:PDT
DTSTART:20250309T100000
END:DAYLIGHT
BEGIN:STANDARD
TZOFFSETFROM:-0700
TZOFFSETTO:-0800
TZNAME:PST
DTSTART:20251102T090000
END:STANDARD
BEGIN:DAYLIGHT
TZOFFSETFROM:-0800
TZOFFSETTO:-0700
TZNAME:PDT
DTSTART:20260308T100000
END:DAYLIGHT
BEGIN:STANDARD
TZOFFSETFROM:-0700
TZOFFSETTO:-0800
TZNAME:PST
DTSTART:20261101T090000
END:STANDARD
END:VTIMEZONE
BEGIN:VEVENT
DTSTART;TZID=America/Los_Angeles:20250322T170000
DTEND;TZID=America/Los_Angeles:20250322T210000
DTSTAMP:20260421T122038
CREATED:20250312T210425Z
LAST-MODIFIED:20250312T210554Z
UID:10000060-1742662800-1742677200@chacewaterwine.com
SUMMARY:Bingo Night
DESCRIPTION:Mark your calendars– for Saturday March 22nd we are bringing Bingo back! The party will be held inside of our Barrel Room from 5pm to 9pm.\n\n\n\n\nCocktail hour is from 5pm to 6pm.\nDinner will be served at 6pm.\nDinner Menu\nBonless chicken thighs and tri tip\nPotato salad\, green salad\, and baked beans\n(Vegetarian options available per request)\nBingo starts at 7pm sharp!\n\n\n\n\nTicket prices\n\n$30 members\n$35 non members\n\n\n\n\nWith your ticket purchase it includes:\nYour meal and dessert\, all supplies needed for Bingo activities\, and a chance to win our grand prize! A 2 day stay in our local Air B&B accompanied by a gift basket.
URL:https://chacewaterwine.com/event/bingo-night/
LOCATION:Chacewater Winery & Olive Mill\, 5625 Gaddy Lane\, Kelseyville\, CA\, 95451\, United States
GEO:38.982467;-122.8345487
X-APPLE-STRUCTURED-LOCATION;VALUE=URI;X-ADDRESS=Chacewater Winery & Olive Mill 5625 Gaddy Lane Kelseyville CA 95451 United States;X-APPLE-RADIUS=500;X-TITLE=5625 Gaddy Lane:geo:-122.8345487,38.982467
END:VEVENT
END:VCALENDAR