BEGIN:VCALENDAR
VERSION:2.0
PRODID:-//Chacewater Winery &amp; Olive Mill - ECPv6.15.20//NONSGML v1.0//EN
CALSCALE:GREGORIAN
METHOD:PUBLISH
X-ORIGINAL-URL:https://chacewaterwine.com
X-WR-CALDESC:Events for Chacewater Winery &amp; Olive Mill
REFRESH-INTERVAL;VALUE=DURATION:PT1H
X-Robots-Tag:noindex
X-PUBLISHED-TTL:PT1H
BEGIN:VTIMEZONE
TZID:America/Los_Angeles
BEGIN:DAYLIGHT
TZOFFSETFROM:-0800
TZOFFSETTO:-0700
TZNAME:PDT
DTSTART:20230312T100000
END:DAYLIGHT
BEGIN:STANDARD
TZOFFSETFROM:-0700
TZOFFSETTO:-0800
TZNAME:PST
DTSTART:20231105T090000
END:STANDARD
BEGIN:DAYLIGHT
TZOFFSETFROM:-0800
TZOFFSETTO:-0700
TZNAME:PDT
DTSTART:20240310T100000
END:DAYLIGHT
BEGIN:STANDARD
TZOFFSETFROM:-0700
TZOFFSETTO:-0800
TZNAME:PST
DTSTART:20241103T090000
END:STANDARD
BEGIN:DAYLIGHT
TZOFFSETFROM:-0800
TZOFFSETTO:-0700
TZNAME:PDT
DTSTART:20250309T100000
END:DAYLIGHT
BEGIN:STANDARD
TZOFFSETFROM:-0700
TZOFFSETTO:-0800
TZNAME:PST
DTSTART:20251102T090000
END:STANDARD
END:VTIMEZONE
BEGIN:VEVENT
DTSTART;TZID=America/Los_Angeles:20240615T170000
DTEND;TZID=America/Los_Angeles:20240615T210000
DTSTAMP:20260422T032228
CREATED:20240522T151132Z
LAST-MODIFIED:20240522T151132Z
UID:10000070-1718470800-1718485200@chacewaterwine.com
SUMMARY:Chacewater Winery Murder Mystery Event
DESCRIPTION:Join us for an unforgettable evening at the Chacewater Winery Murder Mystery Event! Step back in time to the glamorous 1920s\, where you become a character in an immersive murder mystery experience. \nEvent Highlights: \n\nInteractive Experience: Each guest plays a unique character\, with a detailed background and intriguing objectives that directly contribute to unraveling the night’s mystery.\nCharacter Selection: Choose your character from a diverse cast\, each with secrets to discover and goals to achieve.\nCharacter Dossiers: Receive a comprehensive dossier via email after purchasing your ticket\, detailing your character’s background\, motives\, and hidden agendas.\nSide Objectives: Dive into engaging side missions that will help you interact with other guests\, gather clues\, and perhaps conceal your own secrets. These objectives are crucial for solving the mystery and could determine the outcome of the night!\nThe Grand Reveal: The drama peaks about one hour into the event with a shocking murder. Pay close attention to the unfolding events—every moment will be filled with clues!\n\nSpecial Offer: Chacewater Club Members receive 2 FREE drink tickets with ticket purchase.\nDate and Time: \n\nJune 15\, 2024\, starting at 5:00 PM\n\nVenue: \n\nChacewater Winery\, an enchanting location perfect for a night of mystery and intrigue.\n\nDinner: \n\nEnjoy a lavish buffet-style dinner that complements an evening of sleuthing\, featuring BBQ Chicken & Ribs\, a refreshing Green Salad\, hearty Bacon Baked Beans\, and more\, all culminating in a delicious slice of cheesecake.\n\nDress Code: \n\n1920s attire strongly encouraged! Dressing up enhances your experience and immersion. Prizes awarded for the best-dressed attendees!\n\nTickets: \n\nLimited availability per character to ensure a personalized experience. Early bookings might receive additional insights into their character or event secrets!\n\nDon’t miss this unique opportunity to immerse yourself in a thrilling 1920s murder mystery at Chacewater Winery. Solve the clues\, complete your objectives\, and uncover the murderer amidst an evening of glamorous intrigue!
URL:https://chacewaterwine.com/event/chacewater-winery-murder-mystery-event/
LOCATION:Chacewater Winery & Olive Mill\, 5625 Gaddy Lane\, Kelseyville\, CA\, 95451\, United States
GEO:38.982467;-122.8345487
X-APPLE-STRUCTURED-LOCATION;VALUE=URI;X-ADDRESS=Chacewater Winery & Olive Mill 5625 Gaddy Lane Kelseyville CA 95451 United States;X-APPLE-RADIUS=500;X-TITLE=5625 Gaddy Lane:geo:-122.8345487,38.982467
END:VEVENT
END:VCALENDAR